BEGIN:VCALENDAR
VERSION:2.0
PRODID:-//ChamberMaster//Event Calendar 2.0//EN
METHOD:PUBLISH
X-PUBLISHED-TTL:P3D
REFRESH-INTERVAL:P3D
CALSCALE:GREGORIAN
BEGIN:VEVENT
DTSTART:20231026T233000Z
DTEND:20231027T013000Z
X-MICROSOFT-CDO-ALLDAYEVENT:FALSE
SUMMARY:A 2023 Dia de Los Muertos MIXER | COHCC & CHBA
DESCRIPTION:In strategic alliance with The Colorado Hispanic Bar Association.\n\nSet the date for the Dia de Los Muertos Networking Mixer   a fusion of rich Hispanic culture and dynamic business networking. Seize this unparalleled occasion to converge with industry trailblazers\, strengthen professional ties\, and catalyze entrepreneurial success against the backdrop of this vibrant Hispanic celebration.
X-ALT-DESC;FMTTYPE=text/html:In strategic alliance with The Colorado Hispanic Bar Association.<br />\nSet the date for the Dia de Los Muertos Networking Mixer &ndash\; a fusion of rich Hispanic culture and dynamic business networking. Seize this unparalleled occasion to converge with industry trailblazers\, strengthen professional ties\, and catalyze entrepreneurial success against the backdrop of this vibrant Hispanic celebration.<br type="_moz" />\n&nbsp\;
LOCATION:Hosted @ STK Steakhouse Denver 1550 Market St\, Denver\, CO 80202
UID:e.1446.7356
SEQUENCE:3
DTSTAMP:20260426T010913Z
URL:https://directory.hispanicchamberdenver.com/events/details/a-2023-dia-de-los-muertos-mixer-cohcc-chba-7356
END:VEVENT

END:VCALENDAR
